BEGIN:VCALENDAR
VERSION:2.0
PRODID:-//Christ&#039;s Fellowship - ECPv6.15.20//NONSGML v1.0//EN
CALSCALE:GREGORIAN
METHOD:PUBLISH
X-ORIGINAL-URL:https://christsfellowship.com
X-WR-CALDESC:Events for Christ&#039;s Fellowship
REFRESH-INTERVAL;VALUE=DURATION:PT1H
X-Robots-Tag:noindex
X-PUBLISHED-TTL:PT1H
BEGIN:VTIMEZONE
TZID:America/Chicago
BEGIN:DAYLIGHT
TZOFFSETFROM:-0600
TZOFFSETTO:-0500
TZNAME:CDT
DTSTART:20240310T080000
END:DAYLIGHT
BEGIN:STANDARD
TZOFFSETFROM:-0500
TZOFFSETTO:-0600
TZNAME:CST
DTSTART:20241103T070000
END:STANDARD
BEGIN:DAYLIGHT
TZOFFSETFROM:-0600
TZOFFSETTO:-0500
TZNAME:CDT
DTSTART:20250309T080000
END:DAYLIGHT
BEGIN:STANDARD
TZOFFSETFROM:-0500
TZOFFSETTO:-0600
TZNAME:CST
DTSTART:20251102T070000
END:STANDARD
BEGIN:DAYLIGHT
TZOFFSETFROM:-0600
TZOFFSETTO:-0500
TZNAME:CDT
DTSTART:20260308T080000
END:DAYLIGHT
BEGIN:STANDARD
TZOFFSETFROM:-0500
TZOFFSETTO:-0600
TZNAME:CST
DTSTART:20261101T070000
END:STANDARD
END:VTIMEZONE
BEGIN:VEVENT
DTSTART;TZID=America/Chicago:20250602T150000
DTEND;TZID=America/Chicago:20250602T200000
DTSTAMP:20260419T084712
CREATED:20250509T040018Z
LAST-MODIFIED:20250512T222820Z
UID:859-1748876400-1748894400@christsfellowship.com
SUMMARY:TJC Kids Camp
DESCRIPTION:For kids who have completed 1st through 5th grade. \nMonday: 3 PM – 8 PM \nTuesday – Thursday: 9 AM- 8 PM \nCost: $195 per camper
URL:https://christsfellowship.com/event/tjc-kids-camp/
ATTACH;FMTTYPE=image/png:https://christsfellowship.com/wp-content/uploads/2025/05/kids-camp-generic-graphic.jpg.png
END:VEVENT
BEGIN:VEVENT
DTSTART;TZID=America/Chicago:20250517T090000
DTEND;TZID=America/Chicago:20250517T133000
DTSTAMP:20260419T084712
CREATED:20250509T035510Z
LAST-MODIFIED:20250512T224106Z
UID:856-1747472400-1747488600@christsfellowship.com
SUMMARY:Evangelism Training
DESCRIPTION:Join us for Evangelism Training at The Journey Church\, from 9 AM to 1:30 PM.
URL:https://christsfellowship.com/event/evangelism-training/
LOCATION:The Journey Church\, 1240 Leeville Pike\,\, Lebanon\, TN
ATTACH;FMTTYPE=image/jpeg:https://christsfellowship.com/wp-content/uploads/2025/05/Evangelism-iStock-1283259668.jpg
END:VEVENT
BEGIN:VEVENT
DTSTART;TZID=America/Chicago:20250511T083000
DTEND;TZID=America/Chicago:20250511T120000
DTSTAMP:20260419T084712
CREATED:20250509T035218Z
LAST-MODIFIED:20250511T052254Z
UID:854-1746952200-1746964800@christsfellowship.com
SUMMARY:First Service at the Epic Center
DESCRIPTION:
URL:https://christsfellowship.com/event/first-service-at-the-epic-center/
ATTACH;FMTTYPE=image/png:https://christsfellowship.com/wp-content/uploads/2025/05/Screenshot-2025-05-11-at-12.16.38-AM.png
END:VEVENT
BEGIN:VEVENT
DTSTART;TZID=America/Chicago:20250510T090000
DTEND;TZID=America/Chicago:20250510T170000
DTSTAMP:20260419T084712
CREATED:20250509T035043Z
LAST-MODIFIED:20250509T035043Z
UID:852-1746867600-1746896400@christsfellowship.com
SUMMARY:Move Day
DESCRIPTION:Come help us move on May 10th\, at 9 AM. We’re going to the Epic Center\, and it’s going to be epic!
URL:https://christsfellowship.com/event/move-day/
END:VEVENT
END:VCALENDAR